Workbook

Sheet Inventário de Riscos
A2: INSERIR LOGO DA EMPRESA | C2: Programa de Gerenciamento de Riscos | O2: Revisão:
O5: Página:
A9: Título: | B9: Anexo 03 - Inventário de Risco Ergonomia
A13: Identificação
A14: *Inserir GHE vinculado à função.
A15: Classificação do Risco Ergonômico
A16: *A classificação do risco descrito refere-se ao maior risco avaliado da tarefa.
A17: *Será realizada a reclassificação do risco assim que forem encerradas todas as recomendações.
A20: IDENTIFICAÇÃO | H20: FATORES DE RISCO ERGONÔMICO | L20: CLASSIFICAÇÃO DO RISCO
A21: Origem da Classificação | B21: Área | C21: Setor | D21: Tarefa | E21: Função | F21: GHE | G21: Circunstância geradora do Perigo (Pré-diagnóstico) | H21: Perigo (Fator de Risco) | I21: Classificação do Risco | J21: Possíveis Efeitos Humanos | K21: Medida de Controle Existente | L21: Severidade | M21: Probabilidade | N21: Nível de Risco | O21: Nível de Ação
A22: AEP | G22: 1- Sobrecarga em coluna lombar para levantamento de cargas ( sacarias / barricas) 2- Postura prejudicial e esforço físcio (setup e limpeza) | H22: 1 - Movimentação manual de cargas 2 - Postura inadequada | I22: Biomecânico | J22: MMSS e Tronco - Dor, desconforto e fadiga | K22: não existente | L22: 2 - Tolerável | M22: A – Altamente Improvável | N22: =_xlfn.XLOOKUP(I22&"-"&L22&"-"&M22,'Matriz de Risco'!E:E,'Matriz de Risco'!G:G,"",0) | O22: Manter os controles existentes. Pode-se considerar uma solução mais econômica ou aperfeiçoamento que não imponha custos extras. O monitoramento* é necessário para assegurar que os controles estão sendo mantidos.NOTA: Tolerável aqui significa que o risco está aceitável, por ser reduzido ao mais baixo nível que é razoavelmente praticado. *Monitoramento significa verificar existência de queixas dos trabalhadores, indicadores de saúde/segurança etc, de forma que manter o risco na classificação atual. Não é necessária a realização de uma Análise Ergonômica do Trabalho (AET). Não é necessária realização de AET | W22: 1 Insignificante | Y22: A – Altamente Improvável
A23: AET | N23: =_xlfn.XLOOKUP(I23&"-"&L23&"-"&M23,'Matriz de Risco'!E:E,'Matriz de Risco'!G:G,"",0) | W23: 2 - Tolerável | Y23: B - Improvável
N24: =_xlfn.XLOOKUP(I24&"-"&L24&"-"&M24,'Matriz de Risco'!E:E,'Matriz de Risco'!G:G,"",0) | W24: 3 - Moderada | Y24: C - Possível
N25: =_xlfn.XLOOKUP(I25&"-"&L25&"-"&M25,'Matriz de Risco'!E:E,'Matriz de Risco'!G:G,"",0) | W25: 4 - Grave | Y25: D - Provável
N26: =_xlfn.XLOOKUP(I26&"-"&L26&"-"&M26,'Matriz de Risco'!E:E,'Matriz de Risco'!G:G,"",0) | W26: 5 - Severa | Y26: E - Muito Provável
N27: =_xlfn.XLOOKUP(I27&"-"&L27&"-"&M27,'Matriz de Risco'!E:E,'Matriz de Risco'!G:G,"",0)
N28: =_xlfn.XLOOKUP(I28&"-"&L28&"-"&M28,'Matriz de Risco'!E:E,'Matriz de Risco'!G:G,"",0)
N29: =_xlfn.XLOOKUP(I29&"-"&L29&"-"&M29,'Matriz de Risco'!E:E,'Matriz de Risco'!G:G,"",0)
N30: =_xlfn.XLOOKUP(I30&"-"&L30&"-"&M30,'Matriz de Risco'!E:E,'Matriz de Risco'!G:G,"",0)
N31: =_xlfn.XLOOKUP(I31&"-"&L31&"-"&M31,'Matriz de Risco'!E:E,'Matriz de Risco'!G:G,"",0)
N32: =_xlfn.XLOOKUP(I32&"-"&L32&"-"&M32,'Matriz de Risco'!E:E,'Matriz de Risco'!G:G,"",0)
N33: =_xlfn.XLOOKUP(I33&"-"&L33&"-"&M33,'Matriz de Risco'!E:E,'Matriz de Risco'!G:G,"",0)
N34: =_xlfn.XLOOKUP(I34&"-"&L34&"-"&M34,'Matriz de Risco'!E:E,'Matriz de Risco'!G:G,"",0)
N35: =_xlfn.XLOOKUP(I35&"-"&L35&"-"&M35,'Matriz de Risco'!E:E,'Matriz de Risco'!G:G,"",0)
N36: =_xlfn.XLOOKUP(I36&"-"&L36&"-"&M36,'Matriz de Risco'!E:E,'Matriz de Risco'!G:G,"",0)
N37: =_xlfn.XLOOKUP(I37&"-"&L37&"-"&M37,'Matriz de Risco'!E:E,'Matriz de Risco'!G:G,"",0)
N38: =_xlfn.XLOOKUP(I38&"-"&L38&"-"&M38,'Matriz de Risco'!E:E,'Matriz de Risco'!G:G,"",0)
... N417: =_xlfn.XLOOKUP(I417&"-"&L417&"-"&M417,'Matriz de Risco'!E:E,'Matriz de Risco'!G:G,"",0)

Sheet Matriz de Risco
C1: MATRIZ DE RISCO ERGONOMICO E AÇÕES DE CONTROLE
C3: O Inventário de Riscos Ergonômicos – Anexo 03, tem como objetivo identificar os riscos de ergonomia associados as atividades realizadas nos Grupos Homogêneos, estabelecendo medidas de prevenção para eliminar, reduzir ou controlar o risco. Os riscos são riscos dinâmicos e possuem particularidades relacionadas com o local, equipamentos e tipo de intervenção em que ocorrem os serviços. Para avaliação desses riscos, são adotados os seguintes conceitos: | G3: Severidade | H3: Probabilidade
C4: Categorias de Probabilidade | I4: A – Altamente Improvável | J4: B - Improvável | K4: C - Possível | L4: D - Provável | M4: E - Muito Provável
C5: A - Altamente improvável (raramente): No máximo, uma vez ao ano; | H5: 1- Insignificante | I5: Irrelevante | J5: Irrelevante | K5: Tolerável | L5: Tolerável | M5: Tolerável
C6: B - Improvável: No máximo, uma vez no semestre; | H6: 2 - Tolerável | I6: Irrelevante | J6: Irrelevante | K6: Tolerável | L6: Tolerável | M6: Moderado
C7: C - Possível: No mínimo, um evento por mês; | H7: 3 - Moderada | I7: Tolerável | J7: Moderado | K7: Moderado | L7: Moderado | M7: Alto
C8: D - Provável: No mínimo, um evento por semana; | H8: 4 - Grave | I8: Moderado | J8: Moderado | K8: Alto | L8: Alto | M8: Crítico
C9: E – Muito provável (habitual): No mínimo, um evento por dia. | H9: 5 - Severa | I9: Alto | J9: Alto | K9: Alto | L9: Crítico | M9: Crítico
C11: Categorias de Severidade : | G11: Riscos Ergonômicos Para exposição aos ergonômicos, as ações de controle estabelecidas são:
C12: 1 Insignificante | D12: Saúde e Segurança Ocupacional: Existe uma exigência ergonômica que atua nos limites naturais humanos. Não são esperados desconfortos, dor, fadiga e acidentes devidos circunstâncias do processo e/ou mecanismos de regulação e/ou controle suficientes. | E12: Eficiência Produtiva e Processos: Existe uma exigência ergonômica potencialmente causadora de perda de eficiência, mas que devido às circunstâncias do processo apresentam mecanismos de regulação e/ou controle suficientes, não sendo esperadas perdas de qualidade ou produtividade. Atrasos, perdas e retrabalho são desprezíveis.
C13: 2 - Tolerável | D13: Saúde e Segurança Ocupacional: Existe uma exigência ergonômica potencialmente causadora de dor, desconfortos, fadiga e acidente (classe 1), mas que apresentam mecanismos de regulação e/ou controle suficientes que reduzem a probabilidade de ocorrência de danos. | E13: Eficiência Produtiva e Processos: Existe uma exigência ergonômica potencialmente causadora de perda de eficiência e que devido às circunstâncias do processo apresentam mecanismos de regulação e/ou controle insuficientes para reduzir probabilidade de perda na qualidade ou produtividade, podendo acarretar pequenos atrasos/paradas e retrabalho.
C15: 3 - Moderada | D15: Saúde e Segurança Ocupacional: Existe uma exigência ergonômica potencialmente causadora de transtornos, desconforto, fadiga, doenças, acidente não incapacitante (acidente classe 2) e que apresentam mecanismos de regulação e/ou controle insuficientes para reduzir a probabilidade de ocorrência de danos. | E15: Eficiência Produtiva e Processos: Existe uma exigência ergonômica potencialmente causadora de perda de eficiência e que devido às circunstâncias do processo apresentam mecanismos de regulação e/ou controle insuficientes para reduzir probabilidade de perda na qualidade ou produtividade, podendo acarretar atrasos/paradas e retrabalho moderados.
C16: 4 - Grave | D16: Saúde e Segurança Ocupacional: Existe uma exigência ergonômica potencialmente causadora de doença e/ou acidente com lesão (acidente classe 3) e que apresentam mecanismos de regulação e/ou controle insuficientes para reduzir a probabilidade de ocorrência de danos. | E16: Eficiência Produtiva e Processos: Existe uma exigência ergonômica potencialmente causadora de perda de eficiência e que devido às circunstâncias do processo apresentam mecanismos de regulação e/ou controle insuficientes para reduzir probabilidade de perda na qualidade ou produtividade, podendo acarretar atrasos/paradas e retrabalho elevados.
C17: 5 - Severa | D17: Saúde e Segurança Ocupacional: Existe uma exigência ergonômica potencialmente causadora de doença e/ou acidente com lesão grave e/ou incapacitante (acidentes classes 4 e 5) e que não apresentam mecanismos de regulação e/ou controle para reduzir a probabilidade de ocorrência de danos. | E17: Eficiência Produtiva e Processos: Existe uma exigência ergonômica potencialmente causadora de perda de eficiência, e que devido às circunstâncias do processo não apresentam mecanismos de regulação e/ou controle para evitar a perda significativa de qualidade ou produtividade podendo acarretar inviabilidade do processo.

Sheet Lista Suspensa
A1: IDENTIFICAÇÃO | F1: FATORES DE RISCO ERGONÔMICO
A2: Origem da Classificação | B2: Área | C2: Setor/Linha | D2: Tarefa | F2: Perigo** | G2: Classificação do Risco | H2: Possíveis Efeitos Humano/ Organização
A3: AET | E3: Biomecânico | F3: Esforço físico intenso | G3: Biomecânico | H3: MMSS - Dor, desconforto e fadiga
A4: AEP | F4: Trabalho repetitivo | G4: Organizacional | H4: MMII - Dor, desconforto e fadiga
F5: Levantamento e transporte manual de cargas ou volumes | G5: Psicossocial | H5: Tronco - Dor, desconforto e fadiga
F6: Manuseio ou movimentaçãoi de peso com pega pobre | G6: Cognitivo | H6: Pescoço - Dor, desconforto e fadiga
F7: Uso frequente de força, pressão, preensão, flexão, extensão ou torção dos segmentos corporais | G7: Mobiliário e Equipamentos | H7: MMSS e MMII - Dor, desconforto e fadiga
F8: Posturas incômodas ou pouco confortáveis por longos períodos | G8: Ambiental | H8: MMSS e Tronco - Dor, desconforto e fadiga
F9: Postura sentada por longos períodos | G9: Biomecânico + Organizacional | H9: MMSS e Pescoço - Dor, desconforto e fadiga
F10: Postura em pé por longos períodos | G10: Biomecânico + Mobiliário e Equipamentos | H10: MMSS, MMII e Tronco - Dor, desconforto e fadiga
F11: Frequente deslocamento a pé durante a jornada de trabalho | G11: Mobiliário e Equipamentos + Organizacional | H11: Estresse e Fadiga
F12: Flexões de coluna vertebral frequentes | G12: Biomecânico + Organizacional + Mobiliário e Equipamentos | H12: MMII e Tronco - Dor, desconforto e fadiga
F13: Elevação frequente de membros superiores
F14: Sobrecarga muscular estática
F15: Posturas extremas de tronco, pescoço, cabeça, MMSS e/ou MMII
F16: Movimentos bruscos e impactos dos MMSS
F17: Frequente ação de puxar/empurrar cargas ou volumes
F18: Sustentação prolongada de peso
F19: Movimentação de pinça de dedos associada à esforço
F20: Ausência de pausas pré-definidas para descanso
E21: Organizacional | F21: Ausência ou dificuldade para realização de pausas para satisfação das necessidades fisiológicas dos trabalhadores
F22: Ritmo de trabalho intenso
F23: Variação de turnos de trabalho
F24: Trabalho noturno
F25: Monotonia
F26: Insuficiência de capacitação para execução da tarefa
F27: Metas rigorosas de produção
F28: Remuneração por produção
F29: Ritmo de trabalho imposto por um equipamento
F30: Desequilíbrio entre tempo de trabalho e tempo de repouso
F31: Condições de difícil comunicação
F32: Excesso de conflitos hierárquicos
F33: Demandas divergentes (ordens, metas, exigências etc.)
... F35: Dimensões inadequadas dos espaços de trabalho e de circulação inerente à execução da tarefa
E36: Mobiliário e Equipamentos | F36: Compressão de partes do corpo por superfícies rígidas ou com quinas
F37: Uso frequente de escadas
F38: Posto de trabalho improvisado
F39: Mobiliário sem meios de regulagem de ajuste
F40: Posto de trabalho não planejado/adaptado para a posição sentada
F41: Assento inadequado
F42: Encosto do assento inadequado ou ausente
F43: Mobiliário ou equipamento sem espaço para movimentação dos segmentos corporais
F44: Trabalho com necessidade de alcançar objetos, documentos, controles ou qualquer ponto além das zonas de alcance ideiais para as características antropométricas do trabalhador
F45: Equipamentos ou mobiliários não adaptados à antropometria do trabalhador
F46: Manuseio de ferramentas e/ou objetos pesados por períodos prolongados
F47: Uso frequente de pedais
F48: Uso frequente de alavancas
... F51: Excesso de situações de estresse
E52: Psicossocial | F52: Sobrecarga de trabalho mental
F53: Excesso de demandas emocionais/afetivas no trabalho
F54: Insatisfação no trabalho
F55: Falta de autonomia no trabalho
F56: Múltiplas tarefas, com alta demanda cognitiva
E57: Cognitivo | F57: Exigência de alto nível de concentração, atenção e memória
F58: Índice de temperatura efetiva fora dos parâmetros de conforto
E59: Ambiental | F59: Níveis de ruído fora dos parâmetros de conforto
F60: Velocidade do ar fora dos parâmetros de conforto
F61: Umidade do ar fora dos parâmetros de conforto
F62: Iluminação diurna inadequada
F63: Iluminação noturna inadequada
F64: Reflexo em telas, painéis, vidros, monitores ou outras superfícies, com desconforto e prejudicando a visualização
F65: Ofuscamento
F66: Difícil visibilidade e presença de contrastes
F67: Piso escorregadio e/ou irregular
F68: Exposição à vibração de corpo inteiro
F69: Exposição à vibração localizada
F73: ** Os fatores de risco não se limitam a lista apresentada aqui. Podem ser inseridos outros perigos, conforme a tarefa analisada.
